BEGIN:VCALENDAR
VERSION:2.0
PRODID:-//ChamberMaster//Event Calendar 2.0//EN
METHOD:PUBLISH
X-PUBLISHED-TTL:P3D
REFRESH-INTERVAL:P3D
CALSCALE:GREGORIAN
BEGIN:VEVENT
DTSTART:20240912T160000Z
DTEND:20240912T170000Z
X-MICROSOFT-CDO-ALLDAYEVENT:FALSE
SUMMARY:Canceled - Business Book Club
DESCRIPTION:New Castle County Business Book Club - Canceled on Sept. 12\n\n\n\nOur monthly meetings provide professionals from various industries with a platform to connect\, socialize\, and engage in stimulating discussions on a wide range of business topics and ideas. Join us as we explore the latest trends\, share insights\, and foster meaningful connections within our vibrant business community.\n\n\n\nQuestions? Email the book club facilitator Lindsey Evans at lindsey@ofinkandpearls.com or Jane Singer at jfsinger@comcast.net. \n\n\nHave a book recommendation? Let us know what books you have found to be impactful for your business or that we should consider adding to the book club list.
X-ALT-DESC;FMTTYPE=text/html:<strong>New Castle County Business Book Club - Canceled on Sept. 12</strong><br />\n<br />\nOur monthly meetings provide professionals from various industries with a platform to connect\, socialize\, and engage in stimulating discussions on a wide range of business topics and ideas. Join us as we explore the latest trends\, share insights\, and foster meaningful connections within our vibrant business community.<br />\n<br />\n<strong>Questions?</strong>&nbsp\;Email the book club facilitator Lindsey Evans at&nbsp\;lindsey@ofinkandpearls.com or Jane Singer at&nbsp\;jfsinger@comcast.net.&nbsp\;\n<div><br />\n<strong>Have a book recommendation?</strong> <a href="https://docs.google.com/forms/d/e/1FAIpQLSf-V5THd7tJb9JRrbMeFtsJoKF34r6J6HR7OtCxUmAgyMn9uA/viewform">Let us know</a> what books you have found to be impactful for your business or that we should consider adding to the book club list.</div>\n
LOCATION:
UID:e.2890.7439
SEQUENCE:3
DTSTAMP:20260424T010011Z
URL:https://business.ncccc.com/events/details/canceled-business-book-club-7439
END:VEVENT

END:VCALENDAR
