BEGIN:VCALENDAR
VERSION:2.0
PRODID:-//ChamberMaster//Event Calendar 2.0//EN
METHOD:PUBLISH
X-PUBLISHED-TTL:P3D
REFRESH-INTERVAL:P3D
CALSCALE:GREGORIAN
BEGIN:VEVENT
DTSTART:20260909T140000Z
DTEND:20260909T150000Z
X-MICROSOFT-CDO-ALLDAYEVENT:FALSE
SUMMARY:Data Assured: Securing the Fleet: Cybersecurity for Logistics and Trucking Businesses
DESCRIPTION:Data Assured is Delaware's SBDC Premier Cybersecurity Education program for the small businesses of Delaware. Our flagship resource\, the Data Assured Workbook\, walks business owners and stakeholders through building a cybersecurity program that fits their needs as a small business. The Data Assured program also offers additional resources and regular training options\, all available on the Delaware SBDC's website. Learn the threats to and vulnerabilities of logistics and trucking information and communication systems. Targeted Industry: Trucking Logistics & Communication Speaker: We Know Cyber (Guy Bilyou & Matt Bilyou) Partnering with: We Know Cyber Assistance Needed: Webinar CenterIC Registration (Note if not in CenterIC we will need you to send the list of attendees)\; Zoom Setup\; Social Media Coverage\; Put in monthly newsletter\; Providing a Survey to attendees (note surveys are required for ALL training events) Target Market:Startups\; Growth Businesses\; Tech Businesses\; Businesses that need assistance with Cybersecurity
X-ALT-DESC;FMTTYPE=text/html:Data Assured is Delaware&rsquo\;s SBDC Premier Cybersecurity Education program for the small businesses of Delaware. Our flagship resource\, the Data Assured Workbook\, walks business owners and stakeholders through building a cybersecurity program that fits their needs as a small business. The Data Assured program also offers additional resources and regular training options\, all available on the Delaware SBDC&rsquo\;s website. Learn the threats to and vulnerabilities of logistics and trucking information and communication systems. Targeted Industry: Trucking Logistics &amp\; Communication Speaker: We Know Cyber (Guy Bilyou &amp\; Matt Bilyou) Partnering with: We Know Cyber Assistance Needed: Webinar CenterIC Registration (Note if not in CenterIC we will need you to send the list of attendees)\; Zoom Setup\; Social Media Coverage\; Put in monthly newsletter\; Providing a Survey to attendees (note surveys are required for ALL training events) Target Market:Startups\; Growth Businesses\; Tech Businesses\; Businesses that need assistance with Cybersecurity
LOCATION:Online Webinar (Zoom)
UID:e.2890.9259
SEQUENCE:3
DTSTAMP:20260422T182748Z
URL:https://business.ncccc.com/events/details/data-assured-securing-the-fleet-cybersecurity-for-logistics-and-trucking-businesses-9259
END:VEVENT

END:VCALENDAR
