BEGIN:VCALENDAR
VERSION:2.0
PRODID:-//ChamberMaster//Event Calendar 2.0//EN
METHOD:PUBLISH
X-PUBLISHED-TTL:P3D
REFRESH-INTERVAL:P3D
CALSCALE:GREGORIAN
BEGIN:VEVENT
DTSTART:20260708T140000Z
DTEND:20260708T150000Z
X-MICROSOFT-CDO-ALLDAYEVENT:FALSE
SUMMARY:Data Assured: Small Business CMMC Series Part 1
DESCRIPTION:Join the Delaware SBDC and We Know Cyber for a webinar on Small Business CMMC Actions! Small Business CMMC Actions (7/8/2026) CMMC is coming! Business supporting Department of Defense (DoD) contracts need to get their business CMMC certified to keep current contracts and bid on future ones. We'll define Controlled Unclassified Information (CUI)\, describe the steps to CMMC Level 2 certification. Small Business CMMC Level 1 Self Assessment Deep Dive (7/22/2026) As a continuation of the Small Business CMMC Actions session\, we will do a deeper dive into the Level 1 self-assessment. We will demonstrate how to conduct your own Level 1 self-assessment. Please sign up for both events to get the full CMMC experience! Data Assured is Delaware's SBDC Premier Cybersecurity Education program for the small businesses of Delaware. Our flagship resource\, the Data Assured Workbook\, walks business owners and stakeholders through building a cybersecurity program that fits their needs as a small business. The Data Assured program also offers additional resources and regular training options\, all available on the Delaware SBDC's website. Visit the Data Assured webpage to learn more! We Know Cyber is the preeminent champion of small business cybersecurity. We exclusively serve local small businesses in Philadelphia\, Delaware\, and Houston providing expertise in what matters. We've made cybersecurity affordable too! Go with trusted local professionals. You know your business. We know cyber. Visit We Know Cyber's website to learn more!
X-ALT-DESC;FMTTYPE=text/html:Join the Delaware SBDC and We Know Cyber for a webinar on Small Business CMMC Actions! Small Business CMMC Actions (7/8/2026) CMMC is coming! Business supporting Department of Defense (DoD) contracts need to get their business CMMC certified to keep current contracts and bid on future ones. We&#39\;ll define Controlled Unclassified Information (CUI)\, describe the steps to CMMC Level 2 certification. Small Business CMMC Level 1 Self Assessment Deep Dive (7/22/2026) As a continuation of the Small Business CMMC Actions session\, we will do a deeper dive into the Level 1 self-assessment. We will demonstrate how to conduct your own Level 1 self-assessment. Please sign up for both events to get the full CMMC experience! Data Assured is Delaware&rsquo\;s SBDC Premier Cybersecurity Education program for the small businesses of Delaware. Our flagship resource\, the Data Assured Workbook\, walks business owners and stakeholders through building a cybersecurity program that fits their needs as a small business. The Data Assured program also offers additional resources and regular training options\, all available on the Delaware SBDC&rsquo\;s website. Visit the Data Assured webpage to learn more! We Know Cyber is the preeminent champion of small business cybersecurity. We exclusively serve local small businesses in Philadelphia\, Delaware\, and Houston providing expertise in what matters. We&rsquo\;ve made cybersecurity affordable too! Go with trusted local professionals. You know your business. We know cyber. Visit We Know Cyber&#39\;s website to learn more!
LOCATION:Online Webinar (Zoom)
UID:e.2890.9257
SEQUENCE:3
DTSTAMP:20260422T134051Z
URL:https://business.ncccc.com/events/details/data-assured-small-business-cmmc-series-part-1-9257
END:VEVENT

END:VCALENDAR
