BEGIN:VCALENDAR
VERSION:2.0
PRODID:-//ChamberMaster//Event Calendar 2.0//EN
METHOD:PUBLISH
X-PUBLISHED-TTL:P3D
REFRESH-INTERVAL:P3D
CALSCALE:GREGORIAN
BEGIN:VEVENT
DTSTART:20260506T140000Z
DTEND:20260506T143000Z
X-MICROSOFT-CDO-ALLDAYEVENT:FALSE
SUMMARY:DECS Info Series: Bike Month
DESCRIPTION:We will share valuable insights on biking in Delaware.\n\n\n\n\n\nJoin Delaware Commute Solutions (DECS) as we celebrate Bike Month with our May Info Series virtual webinar\, featuring guest speaker John Fiori\, Bicycle Coordinator for the DelDOT Bicycle Program.\n\nDuring this 30-minute session\, John will share valuable insights on biking in Delaware\, including:\n\n\n	Bicycle Safety Checkpoints\n	The J1 Bike Loan Program\n	Bike Rodeos and community safety education\n\n\nThis is a great opportunity to learn more about biking in Delaware\, whether you're new to biking\, a regular rider\, an employer\, or a community member. This info series is open to everyone.
X-ALT-DESC;FMTTYPE=text/html:<div class="StructuredModuleRenderer_structuredContent__k7mNB StructuredModuleRenderer_text__GaXOv" data-testid="text-content" style="box-sizing: border-box\; padding: 0px\; margin: 0px\; color: rgb(88\, 81\, 99)\; align-self: stretch\; overflow: hidden\; text-overflow: ellipsis\; line-height: 23.94px\; letter-spacing: 0.1px\; font-size: 18px\; font-family: &quot\;Neue Plak&quot\;\, -apple-system\, &quot\;system-ui&quot\;\, Roboto\, &quot\;Helvetica Neue&quot\;\, Helvetica\, Tahoma\, Arial\, sans-serif\;">\n<div style="box-sizing: border-box\; padding: 0px\; margin: 0px\;">\n<p style="box-sizing: border-box\; padding: 0px 0px 12px\; margin: 0px\;"><span style="color:#000000\;"><span style="font-family:arial\;"><span style="font-size:14px\;">We will share valuable insights on biking in Delaware.</span></span></span></p>\n</div>\n</div>\n\n<div class="StructuredModuleRenderer_structuredContent__k7mNB StructuredModuleRenderer_text__GaXOv" data-testid="text-content" style="box-sizing: border-box\; padding: 0px\; margin: 0px\; color: rgb(88\, 81\, 99)\; align-self: stretch\; overflow: hidden\; text-overflow: ellipsis\; line-height: 23.94px\; letter-spacing: 0.1px\; font-size: 18px\; font-family: &quot\;Neue Plak&quot\;\, -apple-system\, &quot\;system-ui&quot\;\, Roboto\, &quot\;Helvetica Neue&quot\;\, Helvetica\, Tahoma\, Arial\, sans-serif\;">\n<div style="box-sizing: border-box\; padding: 0px\; margin: 0px\;">\n<p style="box-sizing: border-box\; padding: 0px 0px 12px\; margin: 0px\;"><span style="color:#000000\;"><span style="font-family:arial\;"><span style="font-size:14px\;">Join Delaware Commute Solutions (DECS) as we celebrate Bike Month with our May Info Series virtual webinar\, featuring guest speaker John Fiori\, Bicycle Coordinator for the DelDOT Bicycle Program.</span></span></span></p>\n\n<p style="box-sizing: border-box\; padding: 0px 0px 12px\; margin: 12px 0px 0px\;"><span style="color:#000000\;"><span style="font-family:arial\;"><span style="font-size:14px\;">During this 30-minute session\, John will share valuable insights on biking in Delaware\, including:</span></span></span></p>\n\n<ul style="box-sizing: border-box\; padding-right: 0px\; padding-left: 32px\; margin: 12px 0px 0px\;">\n	<li style="box-sizing: border-box\; padding: 0px 0px 12px\; margin: 0px\;"><span style="color:#000000\;"><span style="font-family:arial\;"><span style="font-size:14px\;">Bicycle Safety Checkpoints</span></span></span></li>\n	<li style="box-sizing: border-box\; padding: 0px 0px 12px\; margin: 4px 0px 0px\;"><span style="color:#000000\;"><span style="font-family:arial\;"><span style="font-size:14px\;">The J1 Bike Loan Program</span></span></span></li>\n	<li style="box-sizing: border-box\; padding: 0px 0px 12px\; margin: 4px 0px 0px\;"><span style="color:#000000\;"><span style="font-family:arial\;"><span style="font-size:14px\;">Bike Rodeos and community safety education</span></span></span></li>\n</ul>\n\n<p style="box-sizing: border-box\; padding: 0px 0px 12px\; margin: 12px 0px 0px\;"><span style="color:#000000\;"><span style="font-family:arial\;"><span style="font-size:14px\;">This is a great opportunity to learn more about biking in Delaware\, whether you&rsquo\;re new to biking\, a regular rider\, an employer\, or a community member. This info series is open to everyone.</span></span></span></p>\n</div>\n</div>\n
LOCATION:
UID:e.2890.9302
SEQUENCE:3
DTSTAMP:20260422T112814Z
URL:https://business.ncccc.com/events/details/decs-info-series-bike-month-9302
END:VEVENT

END:VCALENDAR
