BEGIN:VCALENDAR
VERSION:2.0
PRODID:-//ChamberMaster//Event Calendar 2.0//EN
METHOD:PUBLISH
X-PUBLISHED-TTL:P3D
REFRESH-INTERVAL:P3D
CALSCALE:GREGORIAN
BEGIN:VEVENT
DTSTART:20260512T160000Z
DTEND:20260512T170000Z
X-MICROSOFT-CDO-ALLDAYEVENT:FALSE
SUMMARY:Financial Wellness Workshop on Common Money Mistakes
DESCRIPTION:Join us for an informative financial education session designed to help you better understand and take control of your financial well-being.\n\nDuring this session\, we'll explore common money mistakes and the impact they can have on your overall financial health. Our goal is to provide you with practical knowledge and insights so you can make more confident\, informed financial decisions.\n\nWe all make mistakes especially when it comes to money. This session will help you recognize and avoid some of the most common pitfalls.\n\nIn this session\, you will:\n\n\n	Identify 52 different money mistakes\n	Understand the potential impact of each\n	Learn how these habits connect to your overall financial well-being\n\n\nNo preparation is needed just bring yourself. We'll provide everything you need.
X-ALT-DESC;FMTTYPE=text/html:<p class="p1" style="margin: 0px\; font-variant-numeric: normal\; font-variant-east-asian: normal\; font-variant-alternates: normal\; font-size-adjust: none\; font-language-override: normal\; font-kerning: auto\; font-optical-sizing: auto\; font-feature-settings: normal\; font-variation-settings: normal\; font-variant-position: normal\; font-variant-emoji: normal\; font-stretch: normal\; font-size: 12px\; line-height: normal\; font-family: Helvetica\; color: rgb(0\, 0\, 0)\;">&nbsp\;</p>\n\n<p data-end="294" data-start="154">Join us for an informative financial education session designed to help you better understand and take control of your financial well-being.</p>\n\n<p data-end="542" data-start="296">During this session\, we&rsquo\;ll explore common money mistakes and the impact they can have on your overall financial health. Our goal is to provide you with practical knowledge and insights so you can make more confident\, informed financial decisions.</p>\n\n<p data-end="680" data-start="544">We all make mistakes&mdash\;especially when it comes to money. This session will help you recognize and avoid some of the most common pitfalls.</p>\n\n<p data-end="712" data-start="682"><strong data-end="712" data-start="682">In this session\, you will:</strong></p>\n\n<ul data-end="869" data-start="713">\n	<li data-end="753" data-section-id="1djiabl" data-start="713">Identify 52 different money mistakes</li>\n	<li data-end="797" data-section-id="qlv1q9" data-start="754">Understand the potential impact of each</li>\n	<li data-end="869" data-section-id="lbnar0" data-start="798">Learn how these habits connect to your overall financial well-being</li>\n</ul>\n\n<p data-end="951" data-start="871">No preparation is needed&mdash\;just bring yourself. We&rsquo\;ll provide everything you need.</p>\n
LOCATION:
UID:e.2890.9301
SEQUENCE:3
DTSTAMP:20260422T112918Z
URL:https://business.ncccc.com/events/details/financial-wellness-workshop-on-common-money-mistakes-9301
END:VEVENT

END:VCALENDAR
