BEGIN:VCALENDAR
VERSION:2.0
PRODID:-//ChamberMaster//Event Calendar 2.0//EN
METHOD:PUBLISH
X-PUBLISHED-TTL:P3D
REFRESH-INTERVAL:P3D
CALSCALE:GREGORIAN
BEGIN:VEVENT
DTSTART:20260424T200000Z
DTEND:20260426T230000Z
X-MICROSOFT-CDO-ALLDAYEVENT:FALSE
SUMMARY:Forgotten Cats\, Inc.'s Middletown PetSmart's Cat Adoption Event 4/24-4/26
DESCRIPTION:"Clawchella" Adoption Event April 24-26!!!  Hi\, Everyone!  Extra male and female kitties of various ages\, sizes and colors will be brought to the Middletown PetSmart for our adoption event. They will be joining our adoption center cats for the event.  We will have a kitten "glamping" play area setup for meet and greets and interactive play.  Please stop by for a visit.  You may just find the kitty that you did not know you need in your life!\n\n\n\nIf one of the advertised kitties is capturing your attention now\, please submit our no-obligation Adoption Application for a meet and greet or to adopt:  https://forgottencats.org/adoption-application/.  Not ready to adopt?  Please consider fostering:  https://forgottencats.org/foster-a-cat/.  Thank you!
X-ALT-DESC;FMTTYPE=text/html:<p><span style="font-family:andale mono\,times\; font-size:14pt"><strong>&quot\;Clawchella&quot\; Adoption Event April 24-26!!!&nbsp\;</strong>&nbsp\;Hi\, Everyone!&nbsp\; Extra male and female kitties of various ages\, sizes and colors will be brought to the&nbsp\;<strong>Middletown PetSmart</strong>&nbsp\;for our&nbsp\;<strong>adoption event</strong>. They will be joining our adoption center cats for the event.&nbsp\;&nbsp\;</span><span style="font-size:16px"><span style="color:rgb(34\, 34\, 34)\; font-family:arial\,helvetica\,sans-serif">We will have a kitten &ldquo\;glamping&rdquo\; play area setup for meet and greets and interactive play.&nbsp\;&nbsp\;</span></span><span style="font-family:andale mono\,times\; font-size:14pt">Please stop by for a visit.&nbsp\; You may just find the kitty that you did not know you need in your life!</span><br />\n<br />\n<span style="font-family:andale mono\,times\; font-size:14pt">If one of the advertised kitties is capturing your attention now\,&nbsp\;</span><span style="font-family:andale mono\,times\; font-size:14pt">please submit our no-obligation Adoption Application for a meet and greet or to adopt:&nbsp\;&nbsp\;</span><a href="https://forgottencats.org/adoption-application/" style="font-family: &quot\;andale mono&quot\;\, times\; font-size: 14pt\;" target="_blank">https://forgottencats.org/adoption-application/</a><span style="font-family:andale mono\,times\; font-size:14pt">.&nbsp\; Not ready to adopt?&nbsp\; Please consider fostering:&nbsp\;&nbsp\;</span><a href="https://forgottencats.org/foster-a-cat/" style="font-family: &quot\;andale mono&quot\;\, times\; font-size: 14pt\;" target="_blank">https://forgottencats.org/foster-a-cat/</a><span style="font-family:andale mono\,times\; font-size:14pt">.&nbsp\; Thank you!</span></p>\n\n<div>&nbsp\;</div>\n
LOCATION:Middletown PetSmart 421 Middletown Warwick Rd. Middletown\, DE 19709
UID:e.2890.9300
SEQUENCE:3
DTSTAMP:20260420T190506Z
URL:https://business.ncccc.com/events/details/forgotten-cats-inc-s-middletown-petsmart-s-cat-adoption-event-4-24-4-26-9300
END:VEVENT

END:VCALENDAR
