BEGIN:VCALENDAR
VERSION:2.0
PRODID:-//ChamberMaster//Event Calendar 2.0//EN
METHOD:PUBLISH
X-PUBLISHED-TTL:P3D
REFRESH-INTERVAL:P3D
CALSCALE:GREGORIAN
BEGIN:VEVENT
DTSTART:20130530T213000Z
DTEND:20130531T000000Z
X-MICROSOFT-CDO-ALLDAYEVENT:FALSE
SUMMARY:Greater Newark Partnership Information Mixer
DESCRIPTION:Online registration is now closed for this event\nWalk-ins are welcome!\n\nJoin the Greater Newark Economic Development Partnership for an evening of fun\, networking and information. Part of the evening will be dedicated to presentations from area organizations on what's happening in the Greater Newark\, DE area. There will be 10 presentations lasting only 30 minutes total. There will be light food and a cash bar provided. Come find out what's happening in and around Greater Newark\, DE from organizations such as STAR Campus\, UD Athletics\, Delaware Technology Park\, the Newark Train Station\, Newark Crit and more. See you on Thursday\, May 30th from 5:30 pm-8:00 pm!
X-ALT-DESC;FMTTYPE=text/html:Online registration is now closed for this event\nWalk-ins are welcome!\n\nJoin the Greater Newark Economic Development Partnership for an evening of fun\, networking and information. Part of the evening will be dedicated to presentations from area organizations on what's happening in the Greater Newark\, DE area. There will be 10 presentations lasting only 30 minutes total. There will be light food and a cash bar provided. Come find out what's happening in and around Greater Newark\, DE from organizations such as STAR Campus\, UD Athletics\, Delaware Technology Park\, the Newark Train Station\, Newark Crit and more. See you on Thursday\, May 30th from 5:30 pm-8:00 pm!
LOCATION:654 South College Ave.\, Newark\, DE 19713 From I-95 South\, take Exit 1 Route 896 North toward Newark. Once on 896 North travel through three traffic lights. At the fourth traffic light make a U-turn and then access hotel on the right-hand side. From I-95 North\, take Exit 1B Route 896 North toward Newark. Once on 896 North travel through three traffic lights. At the fourth traffic light make a U-turn and then access hotel on the right-hand side.
UID:e.2890.1448
SEQUENCE:3
DTSTAMP:20260424T050903Z
URL:https://business.ncccc.com/events/details/greater-newark-partnership-information-mixer-05-30-2013-1448
END:VEVENT

END:VCALENDAR
