BEGIN:VCALENDAR
VERSION:2.0
PRODID:-//ChamberMaster//Event Calendar 2.0//EN
METHOD:PUBLISH
X-PUBLISHED-TTL:P3D
REFRESH-INTERVAL:P3D
CALSCALE:GREGORIAN
BEGIN:VEVENT
DTSTART:20130927T123000Z
DTEND:20130927T153000Z
X-MICROSOFT-CDO-ALLDAYEVENT:FALSE
SUMMARY:Guerrilla Marketing: Finding Your Next Customer #3
DESCRIPTION:Marketing\, networking\, social media and sales: we combined these\, our members' four biggest "wants"\, to create Finding Your Next Customer\, a quarterly series focused on helping do just that. \n \n \n \n \n \n Guerrilla Marketing: High Impact on a Tight Budget\n \n \n \n PROGRAM DESCRIPTION: \n \n Every small business is looking to find ways to reach their target customers efficiently. There aren't ever enough marketing dollars! \n \n Guerrilla marketing is an advertising strategy in which low-cost\, unconvential means are utilized\, often in a localized fashion. Typically this type of promotion relies on time\, energy and imagination rather than a big marketing budget. \n \n \n  Topics Covered\n \n \n Top 10 Actions you can take to grow your business \n \n \n 5 Actions that will never (well almost\, never) work\n \n \n Take-Aways: Mini-Marketing Plan!\n \n This highly interactive session will help you create a mini-marketing plan that will be tailored for your business.\n What to Bring?\n \n Bring with you a failed marketing attempt and we will help diagnose why it didn't work and what might have been done differently. \n \n ***********************\n Learn what motivates people to want to do business with your organization so that you can grow profitably. \n  \n \n \n \n \n  Speaker: \n \n Kay Keenan\n President\, Growth Consulting\n Kay Keenan is an accomplished marketer\,strategist\, fundraiser and business leader. She is the co-author of Conversation on Networking and leads workshops on building relationships. She regularly tweets (@ConsultKeenan) on marketing and nonprofit topics. \n \n \n \n \n \n Agenda\n 8:30 -  9:00 a.m. - Networking & Breakfast\n 9:00 -  9:30 a.m. - Speaker & Attendee Introductions\n 9:30 - 11:00 a.m. - Presentation\n 11:00 -11:30 a.m. -Q&A \n \n Continental breakfast will be provided. \n Cost: \n $35.00 members \n $50.00 non-members\n \n "Like" us on Facebook! Follow us on Twitter.  Join us on LinkedIn
X-ALT-DESC;FMTTYPE=text/html:&nbsp\;\n\n\n \n \n \n \n &nbsp\;Marketing\, networking\, social media and sales: we combined these\, our members' four biggest "wants"\, to create Finding Your Next Customer\, a quarterly series focused on helping do just that. \n \n \n \n \n \n Guerrilla Marketing: High Impact on a Tight Budget\n \n \n \n PROGRAM DESCRIPTION: \n \n Every small business is looking to find ways to reach their target customers efficiently. There aren't ever enough marketing dollars! \n \n Guerrilla marketing is an advertising strategy in which low-cost\, unconvential means are utilized\, often in a localized fashion. Typically this type of promotion relies on time\, energy and imagination rather than a big marketing budget.&nbsp\;\n \n \n &nbsp\;Topics Covered\n \n \n Top 10 Actions you can take to grow your business \n \n \n 5 Actions that will never (well almost\, never) work\n \n \n Take-Aways: Mini-Marketing Plan!\n \n This highly interactive session will help you create a mini-marketing plan that will be tailored for your business.\n What to Bring?\n \n Bring with you a failed marketing attempt and we will help diagnose why it didn't work and what might have been done differently. \n \n ***********************\n Learn what motivates people to want to do business with your organization so that you can grow profitably.&nbsp\;\n &nbsp\;\n \n \n \n \n &nbsp\;Speaker: \n \n Kay Keenan\n President\, Growth Consulting\n Kay Keenan is an accomplished marketer\,strategist\, fundraiser and business leader.&nbsp\;She is the co-author of&nbsp\;Conversation on Networking&nbsp\;and leads workshops on building relationships. She regularly tweets (@ConsultKeenan) on marketing and nonprofit topics. \n \n \n \n \n \n Agenda\n 8:30 -&nbsp\; 9:00 a.m. - Networking &amp\; Breakfast\n 9:00 -&nbsp\; 9:30 a.m. - Speaker &amp\; Attendee Introductions\n 9:30 - 11:00 a.m. - Presentation\n 11:00 -11:30 a.m. -Q&amp\;A \n \n Continental breakfast will be provided. \n Cost: \n $35.00 members \n $50.00 non-members\n \n "Like" us on Facebook! Follow us on Twitter.&nbsp\; Join us on LinkedIn\n \n \n \n &nbsp\;\n \n \n\n\n\n\n \n \n\n\n&nbsp\;
LOCATION:12 Penns Way\, New Castle\, DE 19720
UID:e.2890.1377
SEQUENCE:3
DTSTAMP:20260423T221951Z
URL:https://business.ncccc.com/events/details/guerrilla-marketing-finding-your-next-customer-3-09-27-2013-1377
END:VEVENT

END:VCALENDAR
