BEGIN:VCALENDAR
VERSION:2.0
PRODID:-//ChamberMaster//Event Calendar 2.0//EN
METHOD:PUBLISH
X-PUBLISHED-TTL:P3D
REFRESH-INTERVAL:P3D
CALSCALE:GREGORIAN
BEGIN:VEVENT
DTSTART:20260505T150000Z
DTEND:20260505T170000Z
X-MICROSOFT-CDO-ALLDAYEVENT:FALSE
SUMMARY:How to Start a Business
DESCRIPTION:Topic: Start-up Assistance This workshop will provide an overview of Starting A Business in Delaware and give potential entrepreneurs an opportunity to get answers to their most pressing questions. Attendees will learn about issues to consider before starting a business including - Business Licenses needed\, Insurance\, Forms of Business\, Funding\, Business Plan outline\, etc.
X-ALT-DESC;FMTTYPE=text/html:Topic: Start-up Assistance This workshop will provide an overview of Starting A Business in Delaware and give potential entrepreneurs an opportunity to get answers to their most pressing questions. Attendees will learn about issues to consider before starting a business including - Business Licenses needed\, Insurance\, Forms of Business\, Funding\, Business Plan outline\, etc.
LOCATION:Delaware State University - CURE- 223 W Division Street\, Dover\, DE
UID:e.2890.9304
SEQUENCE:3
DTSTAMP:20260422T175449Z
URL:https://business.ncccc.com/events/details/how-to-start-a-business-05-05-2026-9304
END:VEVENT

END:VCALENDAR
