BEGIN:VCALENDAR
VERSION:2.0
PRODID:-//ChamberMaster//Event Calendar 2.0//EN
METHOD:PUBLISH
X-PUBLISHED-TTL:P3D
REFRESH-INTERVAL:P3D
CALSCALE:GREGORIAN
BEGIN:VEVENT
DTSTART:20140315T140000Z
DTEND:20140315T190000Z
X-MICROSOFT-CDO-ALLDAYEVENT:FALSE
SUMMARY:Magnetize Your Marketing Master Class - Unleash 2014 Tour
DESCRIPTION:Darnyelle will teach you her best secrets for Magnetizing Your Marketing so you attract more ideal clients and make more money in 2014 AND you can apply to win a LIVE business marketing makeover!! Learn how to UNLEASH! Your Incredible Factor in a low-cost introductory event!\n\nWhile we are together\, I am going to share the exact process for magnetizing your marketing so that you will be able to fill your business with a ton of ideal\, paying clients in record time. I want you to get your hands on this amazing content once and for all so that you NEVER have to wonder where your next client is coming from ever again.\n\nOne of the biggest challenges most entrepreneurs and small business owners have is getting clear on what I like to call their ''audience of one.'' Not being clear on it is like trying to have a private conversation with someone on the other side of a crowded room without changing your position…needless to say\, they don't resonate with anything you are saying. Trust me\, this is a very important step and the key to create a marketing message that is truly magnetic. One you identify your audience\, you can craft a marketing message that will bring more of them to your proverbial door like a moth to a flame or better yet a magnet to metal.\n \nHere is the Agenda:\nRegistration and Networking 30 minutes\nPresentation\, Business Makeovers and Q and A 3.5 hours\nReception and Networking 1 hour\nTuition: $45 (Incredibly low investment includes presentation\, networking and reception)
X-ALT-DESC;FMTTYPE=text/html:Darnyelle will teach you her best secrets for Magnetizing Your Marketing so you attract more ideal clients and make more money in 2014 AND you can apply to win a LIVE business marketing makeover!! Learn how to UNLEASH! Your Incredible Factor in a low-cost introductory event!\n\nWhile we are together\, I am going to share the exact process for magnetizing your marketing so that you will be able to fill your business with a ton of ideal\, paying clients in record time. I want you to get your hands on this amazing content once and for all so that you NEVER have to wonder where your next client is coming from ever again.\n\nOne of the biggest challenges most entrepreneurs and small business owners have is getting clear on what I like to call their ''audience of one.'' Not being clear on it is like trying to have a private conversation with someone on the other side of a crowded room without changing your position…needless to say\, they don't resonate with anything you are saying. Trust me\, this is a very important step and the key to create a marketing message that is truly magnetic. One you identify your audience\, you can craft a marketing message that will bring more of them to your proverbial door like a moth to a flame or better yet a magnet to metal.\n \nHere is the Agenda:\nRegistration and Networking 30 minutes\nPresentation\, Business Makeovers and Q and A 3.5 hours\nReception and Networking 1 hour\nTuition: $45 (Incredibly low investment includes presentation\, networking and reception)
LOCATION:100 Continental Dr\, Newark\, DE 19713 Hilton Wilmington/Christiana Located right off the 95 exit by the mall.
UID:e.2890.1610
SEQUENCE:3
DTSTAMP:20260423T122116Z
URL:https://business.ncccc.com/events/details/magnetize-your-marketing-master-class-unleash-2014-tour-03-15-2014-1610
END:VEVENT

END:VCALENDAR
