BEGIN:VCALENDAR
VERSION:2.0
PRODID:-//ChamberMaster//Event Calendar 2.0//EN
METHOD:PUBLISH
X-PUBLISHED-TTL:P3D
REFRESH-INTERVAL:P3D
CALSCALE:GREGORIAN
BEGIN:VEVENT
DTSTART:20260511T113000Z
DTEND:20260511T133000Z
X-MICROSOFT-CDO-ALLDAYEVENT:FALSE
SUMMARY:NCCCC Small Business Growth Accelerator Cohort
DESCRIPTION:Helping Established Businesses Scale\, Strengthen & Succeed\n\nThis accelerator is built for small businesses that have moved past the startup phase and are now focused on scaling\, strengthening internal systems\, and unlocking new opportunities for funding\, revenue\, and long-term sustainability. The program blends strategy\, capital access\, marketing\, operations\, and founder well-being providing a full 360  approach to business growth.\n\n\nCohort Structure\n\n\n	8 10 weeks\n	Weekly sessions (2 hours)\n	In-person or hybrid\n	Capstone: A 1-year Strategic Growth Plan + Investor/Capital Pitch\n	Graduation & pitch showcase at the Chamber
X-ALT-DESC;FMTTYPE=text/html:<strong><em><span style="font-family:times new roman\,serif\;"><span style="font-size:13.5pt\;">Helping Established Businesses Scale\, Strengthen &amp\; Succeed</span></span></em></strong><br />\n<span style="font-family:times new roman\,serif\;">This accelerator is built for small businesses that have moved past the startup phase and are now focused on scaling\, strengthening internal systems\, and unlocking new opportunities for funding\, revenue\, and long-term sustainability. The program blends strategy\, capital access\, marketing\, operations\, and founder well-being&mdash\;providing a full 360&deg\; approach to business growth.</span>\n<div align="center" style="margin-bottom:0in\;text-align:center\;line-height:normal\;">\n<hr align="center" size="2" width="100%" /></div>\n<strong><span style="font-family:times new roman\,serif\;"><span style="font-size:18.0pt\;">Cohort Structure</span></span></strong>\n\n<ul>\n	<li style="line-height:normal\;"><strong><span style="font-family:times new roman\,serif\;">8&ndash\;10 weeks</span></strong></li>\n	<li style="line-height:normal\;"><strong><span style="font-family:times new roman\,serif\;">Weekly sessions (2 hours)</span></strong></li>\n	<li style="line-height:normal\;"><strong><span style="font-family:times new roman\,serif\;">In-person or hybrid</span></strong></li>\n	<li style="line-height:normal\;"><strong><span style="font-family:times new roman\,serif\;">Capstone: A 1-year Strategic Growth Plan + Investor/Capital Pitch</span></strong></li>\n	<li style="line-height:normal\;"><strong><span style="font-family:times new roman\,serif\;">Graduation &amp\; pitch showcase at the Chamber</span></strong></li>\n</ul>\n
LOCATION:New Castle County Chamber of Commerce 920 Justison Street Wilmington\, DE 19801
UID:e.2890.9305
SEQUENCE:3
DTSTAMP:20260422T112633Z
URL:https://business.ncccc.com/events/details/ncccc-small-business-growth-accelerator-cohort-9305
END:VEVENT

END:VCALENDAR
