BEGIN:VCALENDAR
VERSION:2.0
PRODID:-//ChamberMaster//Event Calendar 2.0//EN
METHOD:PUBLISH
X-PUBLISHED-TTL:P3D
REFRESH-INTERVAL:P3D
CALSCALE:GREGORIAN
BEGIN:VEVENT
DTSTART:20230616T033000Z
DTEND:20230615T170000Z
X-MICROSOFT-CDO-ALLDAYEVENT:FALSE
SUMMARY:Producers Referral Group
DESCRIPTION:Producers Referral Group will you increase your business through a structured\, positive and professional "word of mouth" program that enables you to develop long term\, meaningful relationships with quality business professionals. Each member of this group is exclusive to their industry. Invitation only
X-ALT-DESC;FMTTYPE=text/html:<span style="color: rgb(89\, 89\, 89)\; font-family: Arial\, Helvetica\, sans-serif\; font-size: 13px\; background-color: rgb(239\, 239\, 239)\;">Producers Referral Group will you increase your business through a structured\, positive and professional &quot\;word of mouth&quot\; program that enables you to develop long term\, meaningful relationships with quality business professionals. Each member of this group is exclusive to their industry. Invitation only</span>
LOCATION:NCCCC 920 Justison Street Wilmington\, DE 19801
UID:e.2890.5789
SEQUENCE:3
DTSTAMP:20260419T135422Z
URL:https://business.ncccc.com/events/details/producers-is-awesome-06-15-2023-5789
END:VEVENT

END:VCALENDAR
