BEGIN:VCALENDAR
VERSION:2.0
PRODID:-//ChamberMaster//Event Calendar 2.0//EN
METHOD:PUBLISH
X-PUBLISHED-TTL:P3D
REFRESH-INTERVAL:P3D
CALSCALE:GREGORIAN
BEGIN:VEVENT
DTSTART:20260508T170000Z
DTEND:20260508T190000Z
X-MICROSOFT-CDO-ALLDAYEVENT:FALSE
SUMMARY:Ribbon Cutting: Brandywine Center for Mental Health
DESCRIPTION:Brandywine Center for Mental Health is hosting a community open house and ribbon cutting. Please join us!
X-ALT-DESC;FMTTYPE=text/html:Brandywine Center for Mental Health is hosting a community open house and ribbon cutting. Please join us!
LOCATION:668 Yorklyn Road\, 1st floor Hockessin\, DE 19707
UID:e.2890.9303
SEQUENCE:3
DTSTAMP:20260422T113002Z
URL:https://business.ncccc.com/events/details/ribbon-cutting-brandywine-center-for-mental-health-9303
END:VEVENT

END:VCALENDAR
