BEGIN:VCALENDAR
VERSION:2.0
PRODID:-//ChamberMaster//Event Calendar 2.0//EN
METHOD:PUBLISH
X-PUBLISHED-TTL:P3D
REFRESH-INTERVAL:P3D
CALSCALE:GREGORIAN
BEGIN:VEVENT
DTSTART:20260706T113000Z
DTEND:20260706T133000Z
X-MICROSOFT-CDO-ALLDAYEVENT:FALSE
SUMMARY:Single Session NCCCC Small Business Growth Accelerator Cohort (8. - Emotional WEll-Being & Founder Sustainability
DESCRIPTION:8. Emotional Well-Being & Founder Sustainability\n\nTopics:\n\n	Stress management for leaders\n	Emotional intelligence and communication\n	Avoiding burnout\n	How to stay in your zone of genius\n	Mental resilience for growth seasons
X-ALT-DESC;FMTTYPE=text/html:<strong><span style="font-family:times new roman\,serif\;"><span style="font-size:18.0pt\;">8. Emotional Well-Being &amp\; Founder Sustainability</span></span></strong><br />\n<strong><span style="font-family:times new roman\,serif\;">Topics:</span></strong>\n<ul>\n	<li style="line-height:normal\;"><span style="font-family:times new roman\,serif\;">Stress management for leaders</span></li>\n	<li style="line-height:normal\;"><span style="font-family:times new roman\,serif\;">Emotional intelligence and communication</span></li>\n	<li style="line-height:normal\;"><span style="font-family:times new roman\,serif\;">Avoiding burnout</span></li>\n	<li style="line-height:normal\;"><span style="font-family:times new roman\,serif\;">How to stay in your zone of genius</span></li>\n	<li style="line-height:normal\;"><span style="font-family:times new roman\,serif\;">Mental resilience for growth seasons</span></li>\n</ul>\n
LOCATION:New Castle County Chamber of Commerce 920 Justison Street Wilmington\, DE 19801
UID:e.2890.9316
SEQUENCE:3
DTSTAMP:20260424T225608Z
URL:https://business.ncccc.com/events/details/single-session-ncccc-small-business-growth-accelerator-cohort-8-emotional-well-being-founder-sustainability-9316
END:VEVENT

END:VCALENDAR
