BEGIN:VCALENDAR
VERSION:2.0
PRODID:-//ChamberMaster//Event Calendar 2.0//EN
METHOD:PUBLISH
X-PUBLISHED-TTL:P3D
REFRESH-INTERVAL:P3D
CALSCALE:GREGORIAN
BEGIN:VEVENT
DTSTART:20260713T113000Z
DTEND:20260713T133000Z
X-MICROSOFT-CDO-ALLDAYEVENT:FALSE
SUMMARY:Single Session NCCCC Small Business Growth Accelerator Cohort ( 9.-Pitch Deck\, Presentation & Capital Strategy Lab)
DESCRIPTION:Topics:\n\n	Crafting your pitch deck\n	Storytelling for investors\, banks & partners\n	Financial projections and ask structure\n	One-on-one coaching with SME mentors
X-ALT-DESC;FMTTYPE=text/html:<strong><span style="font-family:times new roman\,serif\;">Topics:</span></strong>\n<ul>\n	<li style="line-height:normal\;"><span style="font-family:times new roman\,serif\;">Crafting your pitch deck</span></li>\n	<li style="line-height:normal\;"><span style="font-family:times new roman\,serif\;">Storytelling for investors\, banks &amp\; partners</span></li>\n	<li style="line-height:normal\;"><span style="font-family:times new roman\,serif\;">Financial projections and ask structure</span></li>\n	<li style="line-height:normal\;"><span style="font-family:times new roman\,serif\;">One-on-one coaching with SME mentors</span></li>\n</ul>\n
LOCATION:New Castle County Chamber of Commerce 920 Justison Street Wilmington DE 19801
UID:e.2890.9317
SEQUENCE:3
DTSTAMP:20260425T000511Z
URL:https://business.ncccc.com/events/details/single-session-ncccc-small-business-growth-accelerator-cohort-9-pitch-deck-presentation-capital-strategy-lab-9317
END:VEVENT

END:VCALENDAR
