BEGIN:VCALENDAR
VERSION:2.0
PRODID:-//ChamberMaster//Event Calendar 2.0//EN
METHOD:PUBLISH
X-PUBLISHED-TTL:P3D
REFRESH-INTERVAL:P3D
CALSCALE:GREGORIAN
BEGIN:VEVENT
DTSTART:20260615T113000Z
DTEND:20260615T133000Z
X-MICROSOFT-CDO-ALLDAYEVENT:FALSE
SUMMARY:Single Session NCCCC Small BusinessGrowth Accelerator Cohort (5.- Financail Systems Scaling)
DESCRIPTION:5. Financial Systems for Scaling\n\nTopics:\n\n	Cash flow mastery\n	Building a business that can run without you\n	Funding growth safely\n	Pricing for scalability\n	Understanding profitability levers\n\n Subject Matter Expert Angela Coaxum of Your Part Time Controller.  We keep our clients financially accountable\, compliant\, and audit-ready\, building their financial strength while they focus on their missions. June 15th 7:30am-9:30am
X-ALT-DESC;FMTTYPE=text/html:<strong><span style="font-family:times new roman\,serif\;"><span style="font-size:18.0pt\;">5. Financial Systems for Scaling</span></span></strong><br />\n<strong><span style="font-family:times new roman\,serif\;">Topics:</span></strong>\n<ul>\n	<li style="line-height:normal\;"><span style="font-family:times new roman\,serif\;">Cash flow mastery</span></li>\n	<li style="line-height:normal\;"><span style="font-family:times new roman\,serif\;">Building a business that can run without you</span></li>\n	<li style="line-height:normal\;"><span style="font-family:times new roman\,serif\;">Funding growth safely</span></li>\n	<li style="line-height:normal\;"><span style="font-family:times new roman\,serif\;">Pricing for scalability</span></li>\n	<li style="line-height:normal\;"><span style="font-family:times new roman\,serif\;">Understanding profitability levers</span></li>\n</ul>\n<strong><span style="font-family:times new roman\,serif\;">&nbsp\;Subject Matter Expert Angela Coaxum of Your Part Time Controller.&nbsp\; </span></strong><span style="color:black\;"><span style="font-family:times new roman\,serif\;">We keep our clients financially accountable\, compliant\, and audit-ready\, building their financial strength while they focus on their missions</span></span><span style="color:black\;"><span style="font-family:montserrat\;"><span style="font-size:13.5pt\;">. </span></span></span><strong><span style="font-family:times new roman\,serif\;">June 15<sup>th</sup> 7:30am-9:30am</span></strong>
LOCATION:New Castle County Chamber of Commerce 920 Justison Street Wilmington\, DE 19801
UID:e.2890.9313
SEQUENCE:3
DTSTAMP:20260424T225515Z
URL:https://business.ncccc.com/events/details/single-session-ncccc-small-businessgrowth-accelerator-cohort-5-financail-systems-scaling-9313
END:VEVENT

END:VCALENDAR
