BEGIN:VCALENDAR
VERSION:2.0
PRODID:-//ChamberMaster//Event Calendar 2.0//EN
METHOD:PUBLISH
X-PUBLISHED-TTL:P3D
REFRESH-INTERVAL:P3D
CALSCALE:GREGORIAN
BEGIN:VEVENT
DTSTART:20240911T213000Z
DTEND:20240911T230000Z
X-MICROSOFT-CDO-ALLDAYEVENT:FALSE
SUMMARY:The Very Best of Croatia & The Dalmatian Coast Trip Informational Meeting
DESCRIPTION:The New Castle County Chamber of Commerce and Aventura World are excited to announce The Very Best of Croatia and The Dalmatian Coast from March 23-31\, 2025. Please register on this page for our Informational Meeting\, where a representative from Aventura World will be in person to provide all the details and answer any questions about the trip. \n\n\n\nRegistration/Reservations are now open. Use our booking website https://booking.aventuraworld.com. Please use booking code: BVWIRV\n\n\n\nDownload Croatia 2025 Trip Brochure
X-ALT-DESC;FMTTYPE=text/html:<span style="color:#000000\;"><span data-preserver-spaces="true" style="background: none\; margin-top: 0pt\; margin-bottom: 0pt\;">The New Castle County Chamber of Commerce and&nbsp\;</span></span><a class="editor-rtfLink" href="https://www.aventuraworld.com/" style="background: none\; margin-top: 0pt\; margin-bottom: 0pt\; color: rgb(74\, 110\, 224)\;" target="_blank"><span style="color:#000000\;"><span data-preserver-spaces="true" style="background: none\; margin-top: 0pt\; margin-bottom: 0pt\;">Aventura World</span></span></a><span style="color:#000000\;"><span data-preserver-spaces="true" style="background: none\; margin-top: 0pt\; margin-bottom: 0pt\;">&nbsp\;are excited to announce&nbsp\;<strong><em>The Very Best of Croatia and The Dalmatian Coast</em> from March 23-31\, 2025.</strong>&nbsp\;</span>Please register on this page for our Informational Meeting\, where a representative from Aventura World will be in person to provide all the details and answer any questions about the trip.&nbsp\;</span><br />\n<br />\n<strong><span style="color:#000000\;">Registration/Reservations are now open. Use our booking website </span><a href="https://linkprotect.cudasvc.com/url?a=https%3a%2f%2fbooking.aventuraworld.com&amp\;c=E\,1\,_rL5sgoaHLiTnQr4JVbPh8IYC5gMhKJXsk8ck6gHm2GFqMlQzvCxjvGZ28k8M2OGr6Fdw9_dqmFYsyV8eWVIEup9s5Sm8Q_i_boGyR-t4oVscYdvqEtI7wMLwA\,\,&amp\;typo=1"><span style="color:#000000\;">https://booking.aventuraworld.com</span></a><span style="color:#000000\;">. Please use booking code: </span><span style="color:#0000FF\;">BVWIRV</span></strong><br />\n<br />\n<a href="https://chambermaster.blob.core.windows.net/userfiles/UserFiles/chambers/2890/File/Croatia2025tripbrochure.pdf">Download Croatia 2025 Trip Brochure</a>
LOCATION:New Castle County Chamber of Commerce 920 Justison St. Wilmington\, DE 19808 *FREE parking is available by Planet Fitness
UID:e.2890.7450
SEQUENCE:3
DTSTAMP:20260424T010123Z
URL:https://business.ncccc.com/events/details/the-very-best-of-croatia-the-dalmatian-coast-trip-informational-meeting-7450
END:VEVENT

END:VCALENDAR
